BEGIN:VCALENDAR
VERSION:2.0
PRODID:-//CHARM - ECPv6.15.20//NONSGML v1.0//EN
CALSCALE:GREGORIAN
METHOD:PUBLISH
X-WR-CALNAME:CHARM
X-ORIGINAL-URL:https://charm.havencreative.org
X-WR-CALDESC:Events for CHARM
REFRESH-INTERVAL;VALUE=DURATION:PT1H
X-Robots-Tag:noindex
X-PUBLISHED-TTL:PT1H
BEGIN:VTIMEZONE
TZID:America/Los_Angeles
BEGIN:DAYLIGHT
TZOFFSETFROM:-0800
TZOFFSETTO:-0700
TZNAME:PDT
DTSTART:20220313T100000
END:DAYLIGHT
BEGIN:STANDARD
TZOFFSETFROM:-0700
TZOFFSETTO:-0800
TZNAME:PST
DTSTART:20221106T090000
END:STANDARD
BEGIN:DAYLIGHT
TZOFFSETFROM:-0800
TZOFFSETTO:-0700
TZNAME:PDT
DTSTART:20230312T100000
END:DAYLIGHT
BEGIN:STANDARD
TZOFFSETFROM:-0700
TZOFFSETTO:-0800
TZNAME:PST
DTSTART:20231105T090000
END:STANDARD
BEGIN:DAYLIGHT
TZOFFSETFROM:-0800
TZOFFSETTO:-0700
TZNAME:PDT
DTSTART:20240310T100000
END:DAYLIGHT
BEGIN:STANDARD
TZOFFSETFROM:-0700
TZOFFSETTO:-0800
TZNAME:PST
DTSTART:20241103T090000
END:STANDARD
END:VTIMEZONE
BEGIN:VTIMEZONE
TZID:UTC
BEGIN:STANDARD
TZOFFSETFROM:+0000
TZOFFSETTO:+0000
TZNAME:UTC
DTSTART:20210101T000000
END:STANDARD
END:VTIMEZONE
BEGIN:VEVENT
DTSTART;VALUE=DATE:20231026
DTEND;VALUE=DATE:20231027
DTSTAMP:20260423T132703
CREATED:20230927T225453Z
LAST-MODIFIED:20230927T225453Z
UID:1598-1698278400-1698364799@charm.havencreative.org
SUMMARY:CHARM partners Nova Forum: Tolkien and the Mystery of Literary Creation
DESCRIPTION:Come experience The Lord of the Rings from a new point of view and learn about the deepest meaning of Tolkien’s literary achievement! Professor Giuseppe Pezzini\, a leading classics scholar at Oxford\, explores Tolkien’s sophisticated and innovative literary theory in six lectures drawing on his forthcoming book from Cambridge University Press – the first academic study of Tolkien since his death 50 years ago this year. Professor Pezzini will share excerpts from Tolkien’s lesser known writings as well as video clips about his life and works.CHECK EXACT TIMES AND TOPICS HERE:https://www.novaforum.org/events/tolkien-and-the-mystery-of-literary-creation
URL:https://charm.havencreative.org/event/charm-partners-nova-forum-tolkien-and-the-mystery-of-literary-creation-4/
LOCATION:Sidney Harman Academy for Polymathic Study (DML 241) 3550 Trousdale ParkwayLos Angeles\, CA\, 90089
END:VEVENT
BEGIN:VEVENT
DTSTART;TZID=UTC:20231025T173000
DTEND;TZID=UTC:20231025T183000
DTSTAMP:20260423T132703
CREATED:20230925T210835Z
LAST-MODIFIED:20230925T211256Z
UID:1580-1698255000-1698258600@charm.havencreative.org
SUMMARY:CHARM Grad Student/Postdoc Happy Hour
DESCRIPTION:Collaborations in History\, Art\, Religion\, and Music (CHARM) invites graduate students and postdocs to a happy hour at Greenleaf in USC Village\, with CHARMing graduate student hosts Theodor Hamstra (English) and Monica Mitri (Religion). https://www.eatdrinkgreenleaf. com/menu/social-hour
URL:https://charm.havencreative.org/event/charm-grad-student-postdoc-happy-hour/
LOCATION:Greenleaf Kitchen & Cocktails\, 929 W Jefferson Blvd. Ste 1650\, Los Angeles\, CA\, 90089\, United States
ORGANIZER;CN="Lisa Pon":MAILTO:lisapon@usc.edu
END:VEVENT
BEGIN:VEVENT
DTSTART;TZID=America/Los_Angeles:20231024T173000
DTEND;TZID=America/Los_Angeles:20231028T183000
DTSTAMP:20260423T132703
CREATED:20230927T225452Z
LAST-MODIFIED:20230927T225831Z
UID:1593-1698168600-1698517800@charm.havencreative.org
SUMMARY:CHARM partners Nova Forum: Tolkien and the Mystery of Literary Creation. Daily until Oct. 28th.
DESCRIPTION:Come experience The Lord of the Rings from a new point of view and learn about the deepest meaning of Tolkien’s literary achievement! Professor Giuseppe Pezzini\, a leading classics scholar at Oxford\, explores Tolkien’s sophisticated and innovative literary theory in six lectures drawing on his forthcoming book from Cambridge University Press – the first academic study of Tolkien since his death 50 years ago this year. Professor Pezzini will share excerpts from Tolkien’s lesser known writings as well as video clips about his life and works.\nCHECK EXACT TIMES AND TOPICS HERE:\nhttps://www.novaforum.org/events/tolkien-and-the-mystery-of-literary-creation
URL:https://charm.havencreative.org/event/charm-partners-nova-forum-tolkien-and-the-mystery-of-literary-creation-2/
LOCATION:Sidney Harman Academy for Polymathic Study (DML 241) 3550 Trousdale ParkwayLos Angeles\, CA\, 90089
END:VEVENT
BEGIN:VEVENT
DTSTART;VALUE=DATE:20231012
DTEND;VALUE=DATE:20231013
DTSTAMP:20260423T132703
CREATED:20230804T043138Z
LAST-MODIFIED:20230804T043318Z
UID:1402-1697068800-1697155199@charm.havencreative.org
SUMMARY:Opening of the Japanese Heritage House\, Huntington Garden
DESCRIPTION:
URL:https://charm.havencreative.org/event/opening-of-the-japanese-heritage-house-huntington-garden/
LOCATION:Huntington Gardens\, 1151 Oxford Road\, San Marino\, 91108\, United States
ORGANIZER;CN="Lisa Pon":MAILTO:lisapon@usc.edu
END:VEVENT
BEGIN:VEVENT
DTSTART;TZID=UTC:20231002T110000
DTEND;TZID=UTC:20231002T123000
DTSTAMP:20260423T132703
CREATED:20230804T042655Z
LAST-MODIFIED:20230925T205521Z
UID:1398-1696244400-1696249800@charm.havencreative.org
SUMMARY:CHARM zoom visit by Professor Adam Jasienski\,  author of Praying to Portraits (Penn State\, 2023)
DESCRIPTION:
URL:https://charm.havencreative.org/event/charm-zoom-visit-by-prof-adam-jasienski-author-of-praying-to-portraits-penn-2023/
LOCATION:zoom
ATTACH;FMTTYPE=image/jpeg:https://charm.havencreative.org/wp-content/uploads/2023/07/Events.summerreading.Jasienski.book_.jpeg
ORGANIZER;CN="Lisa Pon":MAILTO:lisapon@usc.edu
END:VEVENT
BEGIN:VEVENT
DTSTART;TZID=UTC:20230910T113000
DTEND;TZID=UTC:20230910T123000
DTSTAMP:20260423T132703
CREATED:20230824T212151Z
LAST-MODIFIED:20230824T212313Z
UID:1472-1694345400-1694349000@charm.havencreative.org
SUMMARY:CHARM & Casden Institute: The Warner Brothers: Hollywood's Most Outspoken Jews
DESCRIPTION:This virtual event will feature Dr. Chris Yogerst in conversation with Dr. Tom Doherty\, moderated by Dr. Steven Ross. Their discussion will focus on a new biography of the Warner Brothers\, which showcases the significant role Warner Bros. played in the origins of Hollywood. Warner Bros. films were always a reflection of the brothers’ social and political compass. From the silent era to the Great Depression\, World War II and the Cold War\, Warner Bros. made provocative\, hardedged films that grappled with real world issues. The brothers openly campaigned for social justice and warned about the evils of Nazism at home and abroad. Almost always on the right side of history\, the Warners met the moment at every cultural turning point. Register at https://events.usc.edu/esvp/code/091023
URL:https://charm.havencreative.org/event/charm-casden-institute-the-warner-brothers-hollywoods-most-outspoken-jews/
LOCATION:zoom
ORGANIZER;CN="Lisa Pon":MAILTO:lisapon@usc.edu
END:VEVENT
BEGIN:VEVENT
DTSTART;TZID=UTC:20230901T110000
DTEND;TZID=UTC:20230901T123000
DTSTAMP:20260423T132703
CREATED:20230712T180646Z
LAST-MODIFIED:20230829T021451Z
UID:1370-1693566000-1693571400@charm.havencreative.org
SUMMARY:CHARM hybrid in-person/online discussion of Adam Jasienski's new book Praying to Portraits
DESCRIPTION:Collaborations in History\, Art\, Religion\, and Music (CHARM) hosts a hybrid in-person/online discussion of Adam Jasienski’s new book\, Praying to Portraits: Audience\, Identity\, and the Inquisition in the Early Modern Hispanic World (Penn State\, 2023).  An asynchronous social reading group is open now at perusall.com with course code: PON-WJVWQ . Register for attendance by Zoom here.
URL:https://charm.havencreative.org/event/charm-hybrid-in-person-online-discussion-of-adam-jasienskis-new-book-praying-to-portraits/
LOCATION:USC Mark Taper Hall (THH 30) and zoom\, University of Southern California\, Los Angeles\, CA\, 90089\, United States
ATTACH;FMTTYPE=image/jpeg:https://charm.havencreative.org/wp-content/uploads/2023/07/Events.summerreading.Jasienski.book_.jpeg
END:VEVENT
BEGIN:VEVENT
DTSTART;TZID=UTC:20230825T110000
DTEND;TZID=UTC:20230825T120000
DTSTAMP:20260423T132703
CREATED:20230714T184024Z
LAST-MODIFIED:20230714T184024Z
UID:1387-1692961200-1692964800@charm.havencreative.org
SUMMARY:CHARM 2023-24 zooming ahead meeting
DESCRIPTION:with optional lunch to follow
URL:https://charm.havencreative.org/event/charm-2023-24-zooming-ahead-meeting/
LOCATION:zoom and Coffee Bean at USC Cinematic Arts building\, 900 West 34th Street\, Los Angeles\, CA\, 90089\, United States
ATTACH;FMTTYPE=image/jpeg:https://charm.havencreative.org/wp-content/uploads/2023/03/LACMA.600x.jpg
ORGANIZER;CN="Lisa Pon":MAILTO:lisapon@usc.edu
END:VEVENT
BEGIN:VEVENT
DTSTART;TZID=UTC:20230802T140000
DTEND;TZID=UTC:20230802T153000
DTSTAMP:20260423T132703
CREATED:20230914T020730Z
LAST-MODIFIED:20230914T020943Z
UID:1531-1690984800-1690990200@charm.havencreative.org
SUMMARY:CHARM and Homeboy Art Academy visit Forest Lawn Art Museum
DESCRIPTION:CHARM and Homeboy Art Academy visit Fair Lawn Art Museum to discuss art\, memory\, and commemoration with museum director\, Dr. James Fishburne.
URL:https://charm.havencreative.org/event/charm-and-homeboy-art-academy-visit-forest-lawn-art-museum/
LOCATION:Forest Lawn Art Museum\, 1712 S Glendale Ave.\, Glendale\, CA\, 91205\, United States
END:VEVENT
BEGIN:VEVENT
DTSTART;VALUE=DATE:20230701
DTEND;VALUE=DATE:20230731
DTSTAMP:20260423T132703
CREATED:20230712T180658Z
LAST-MODIFIED:20230712T180658Z
UID:1366-1688169600-1690761599@charm.havencreative.org
SUMMARY:CHARM Asynchronous Reading: Summer Book Reading
DESCRIPTION:Adam Jasienski’s new book\, Praying to Portraits: Audience\, Identity\, and the Inquisition in the Early Modern Hispanic World (Penn State\, 2023).\nAn asynchronous social reading site is open now at perusall.com with course code: PON-WJVWQ
URL:https://charm.havencreative.org/event/charm-asynchronous-reading-summer-book-reading/
LOCATION:zoom and Coffee Bean at USC Cinematic Arts building\, 900 West 34th Street\, Los Angeles\, CA\, 90089\, United States
ATTACH;FMTTYPE=image/jpeg:https://charm.havencreative.org/wp-content/uploads/2023/07/Events.summerreading.Jasienski.book_.jpeg
END:VEVENT
BEGIN:VEVENT
DTSTART;TZID=UTC:20230508T110000
DTEND;TZID=UTC:20230508T150000
DTSTAMP:20260423T132703
CREATED:20230320T031420Z
LAST-MODIFIED:20230404T012203Z
UID:451-1683543600-1683558000@charm.havencreative.org
SUMMARY:EMSI Seminar: Big Paper in Small Pieces\, Large Design in the Renaissance
DESCRIPTION:Join speakers: \nArnold Nesselrath\, Vatican Museums\, “On the Functions of Raphael’s Cartoons”\nDario Donetti\, Università di Verona\, “Using\, Storing\, and Archiving Renaissance Drawings for New Saint Peter’s”\nRespondent:\nTracy Cosgriff\, College of Wooster
URL:https://charm.havencreative.org/event/charm-public-event-big-paper-in-small-pieces-renaissance/
LOCATION:Hungtington Library\, 1151 Oxford Road\, San Marino\, 91108\, United States
ATTACH;FMTTYPE=image/jpeg:https://charm.havencreative.org/wp-content/uploads/2023/04/emsilogo.jpeg
ORGANIZER;CN="A Fulmer":MAILTO:afulmer@usc.edu
END:VEVENT
BEGIN:VEVENT
DTSTART;TZID=UTC:20230420T170000
DTEND;TZID=UTC:20230420T190000
DTSTAMP:20260423T132703
CREATED:20230403T224327Z
LAST-MODIFIED:20230403T225631Z
UID:916-1682010000-1682017200@charm.havencreative.org
SUMMARY:CHARM and EMSI social hour at USC's Moreton Fig
DESCRIPTION:CHARM and the USC-Huntington Early Modern Studies Institute (EMSI) will co-host a graduate student and postdoctoral fellow social hour at Moreton Fig. This event is intended to facilitate community and collaboration. All are welcome. RSVP directly to ldodds@usc.edu
URL:https://charm.havencreative.org/event/charm-and-emsi-social-hour-at-uscs-moreton-fig/
LOCATION:Morton Fig at USC campus\, 3607 Trousdale Pkwy\, Los Angeles\, CA\, 90089\, United States
ATTACH;FMTTYPE=image/jpeg:https://charm.havencreative.org/wp-content/uploads/2023/04/mortonfigs.jpeg
ORGANIZER;CN="Lauren Dodd":MAILTO:ldodds@usc.edu
END:VEVENT
BEGIN:VEVENT
DTSTART;TZID=UTC:20230414T100000
DTEND;TZID=UTC:20230414T120000
DTSTAMP:20260423T132703
CREATED:20230320T030913Z
LAST-MODIFIED:20230403T224435Z
UID:449-1681466400-1681473600@charm.havencreative.org
SUMMARY:CHARM roundtable with Peter Sellars
DESCRIPTION:Peter Sellars takes part in a roundtable with David Albertson (Religion)\, Adam Gilbert (Thornton)\, Lisa Pon (Art History)\, and an undergraduate from the Harman Academy of Polymathic Study to discuss history\, art\, religion and music with regards to his direction of the Schütz MusikalischeExequien staging that was performed at Disney Hall this past November. \nSponsored by the USC School of Dramatic Arts.\nLIMITED TO 30\, SO PLEASE RSVP TO RESERVE YOUR SPOT.\nPlace tba.
URL:https://charm.havencreative.org/event/charm-roundtable-with-peter-sellars/
LOCATION:CA
ATTACH;FMTTYPE=image/jpeg:https://charm.havencreative.org/wp-content/uploads/2023/03/sellars.jpeg
END:VEVENT
BEGIN:VEVENT
DTSTART;TZID=UTC:20230412T113000
DTEND;TZID=UTC:20230412T130000
DTSTAMP:20260423T132703
CREATED:20230403T211024Z
LAST-MODIFIED:20230403T211024Z
UID:909-1681299000-1681304400@charm.havencreative.org
SUMMARY:AHIS Works-in-Progress: Susan Dackerman and Lisa Pon
DESCRIPTION:
URL:https://charm.havencreative.org/event/ahis-works-in-progress-susan-dackerman-and-lisa-pon/
LOCATION:USC Mark Taper Hall (THH 309k) or zoom https://usc.zoom.us/j/93688155016\, CA\, United States
ORGANIZER;CN="Lisa Pon":MAILTO:lisapon@usc.edu
END:VEVENT
BEGIN:VEVENT
DTSTART;VALUE=DATE:20230410
DTEND;VALUE=DATE:20230511
DTSTAMP:20260423T132703
CREATED:20230404T011943Z
LAST-MODIFIED:20230404T011953Z
UID:928-1681084800-1683763199@charm.havencreative.org
SUMMARY:CHARM Asynchronous Reading: Graduate Student Work in Progress
DESCRIPTION:
URL:https://charm.havencreative.org/event/charm-asynchronous-reading-graduate-student-work-in-progress/
LOCATION:CA
END:VEVENT
BEGIN:VEVENT
DTSTART;TZID=UTC:20230329T100000
DTEND;TZID=UTC:20230329T120000
DTSTAMP:20260423T132703
CREATED:20230320T030227Z
LAST-MODIFIED:20230320T030636Z
UID:445-1680084000-1680091200@charm.havencreative.org
SUMMARY:CHARM visits Homeboys Art Academy
DESCRIPTION:What began in 1988 as a way of improving the lives of former gang members in East Los Angeles has evolved into the largest gang intervention\, rehab and re-entry program in the world. \nEach year we welcome thousands of people through our doors seeking to transform their lives. Whether joining our 18-month employment and re-entry program or seeking discrete services such as tattoo removal or substance abuse resources\, our clients are embraced by a community of kinship and offered a variety of free wraparound services to facilitate healing and growth. In addition to serving almost 7\,000 members of the immediate Los Angeles community in 2018\, our flagship 18-month employment and re-entry program was offered to over 400 men and women.
URL:https://charm.havencreative.org/event/charm-visits-homeboys-art-academy/
LOCATION:Homeboy Art Academy\, 3541 E 1st Street\, Los Angeles\, CA\, 90063\, United States
END:VEVENT
BEGIN:VEVENT
DTSTART;TZID=UTC:20230322T150000
DTEND;TZID=UTC:20230322T160000
DTSTAMP:20260423T132703
CREATED:20230324T003020Z
LAST-MODIFIED:20230329T202101Z
UID:589-1679497200-1679500800@charm.havencreative.org
SUMMARY:CHARM Book Reading Group In Person Meeting
DESCRIPTION:We will read Leah DeVun’s The Shape of Sex: Nonbinary Gender from Genesis to the Renaissance (2021).  We are planning a casual conversation over coffee/tea for March 22\, 3-4pm\, with an option to zoom in\, and they are welcome.  But it is also possible to participate fully virtually and asynchronously:  DeVun’s introduction and chapter 1 are now available for social reading on Perusall.com under course code PON-9QDXJ .  If you are new to Perusall\, this link will be helpful for getting started.  Please email Lauren Dodds (ldodds@usc.edu) for more info about the Perusall social reading.
URL:https://charm.havencreative.org/event/charm-book-reading-group-in-person-meeting/
LOCATION:Hybrid: zoom and in-person
ORGANIZER;CN="Lisa Pon":MAILTO:lisapon@usc.edu
END:VEVENT
BEGIN:VEVENT
DTSTART;TZID=UTC:20230320T080000
DTEND;TZID=UTC:20230320T170000
DTSTAMP:20260423T132703
CREATED:20230320T033038Z
LAST-MODIFIED:20230320T033038Z
UID:462-1679299200-1679331600@charm.havencreative.org
SUMMARY:Grace Converse research presentation on Theosophy in Southern California\, 1875-1945
DESCRIPTION:Grace Converse presents her latest research on Theosophy in S. California\, 1875-1945.
URL:https://charm.havencreative.org/event/grace-converse-research-presentation-on-theosophy-in-southern-california-1875-1945/
LOCATION:CA
END:VEVENT
BEGIN:VEVENT
DTSTART;TZID=UTC:20230307T190000
DTEND;TZID=UTC:20230307T200000
DTSTAMP:20260423T132703
CREATED:20230320T025536Z
LAST-MODIFIED:20230320T025912Z
UID:443-1678215600-1678219200@charm.havencreative.org
SUMMARY:Guadalupe Rosales: Handtmann Lecture/Roski Talk
DESCRIPTION:Guadalupe Rosales (b. 1980\, CA) is a Los Angeles-based artist who received an MFA from the School of the Art Institute of Chicago in 2016 and was the 2019 recipient of Gordon Parks Foundation fellowship and 2020 USA Artist Award fellow. She is the founder and operator of Veteranas & Rucas and Map Pointz\, two digital archives accessible through Instagram with over 250k subscribers. Aside from these two digital archives on Instagram\, Rosales runs and preserves a physical archive containing vernacular photographs\, flyers\, magazines and other types of ephemera of the 1990’s connected to Latinx youth culture in Southern California and goes as far as the 1940’s. Guided by an instinct to create counter-narratives\, Rosales tells the stories of communities often underrepresented in public record and official memory. By preserving artifacts and memorabilia\, Rosales’ reframes marginalized histories\, offering platforms of self-representation.
URL:https://charm.havencreative.org/event/guadalupe-rosales-handtmann-lecture-roski-talk/
LOCATION:CA
END:VEVENT
BEGIN:VEVENT
DTSTART;TZID=UTC:20230303T200000
DTEND;TZID=UTC:20230303T220000
DTSTAMP:20260423T132703
CREATED:20230320T032433Z
LAST-MODIFIED:20230320T032507Z
UID:455-1677873600-1677880800@charm.havencreative.org
SUMMARY:CHARM PUBLIC EVENT: Los pastorcillos: Early Modern Music in the Americas
DESCRIPTION:Performed by Thornton Baroque Sinfonia\nDirected by Adam Knight Gilbert and Jason Yoshida\nFeaturing music from Mission San Fernando\n(Sponsored by 2022-23 Collaboration Fund with Lisa Pon\, with research by DMA student Alejandro Acosta)
URL:https://charm.havencreative.org/event/charm-public-event-los-pastorcillos-early-modern-music-in-the-americas/
LOCATION:USC Newman Recital Hall\, 700 Childs Way\, Los Angeles\, CA\, 90089\, United States
ORGANIZER;CN="Adam Gilbert":MAILTO:akgilber@usc.edu
END:VEVENT
BEGIN:VEVENT
DTSTART;TZID=UTC:20230302T224500
DTEND;TZID=UTC:20230302T234500
DTSTAMP:20260423T132703
CREATED:20230324T002713Z
LAST-MODIFIED:20230329T202247Z
UID:587-1677797100-1677800700@charm.havencreative.org
SUMMARY:CHARM Reads Together: Discussion with Claire Farago
DESCRIPTION:CHARM Reads Together: Discussion with Claire
URL:https://charm.havencreative.org/event/charm-reads-together-discussion-with-claire-farago/
LOCATION:Hybrid: zoom and in-person
ORGANIZER;CN="Lisa Pon":MAILTO:lisapon@usc.edu
END:VEVENT
BEGIN:VEVENT
DTSTART;TZID=UTC:20230216T150000
DTEND;TZID=UTC:20230216T170000
DTSTAMP:20260423T132703
CREATED:20230320T032848Z
LAST-MODIFIED:20230320T032918Z
UID:459-1676559600-1676566800@charm.havencreative.org
SUMMARY:Music in the Apocalyptic Mode
DESCRIPTION:CPW (Center for the Premodern World at USC)  will be hosting Colin McAllister\, who is visiting us from the University of Colorado-Colorado Springs. Colin is both a musicologist and a musician. His academic work focuses on the apocalypse and the music of the Middle Ages. At CPW\, he will be talking about the ideas and impact of apocalyptic music\, spanning from the Middle Ages to modern pop\, metal\, and reggae. The talk will be “illustrated” with sound.
URL:https://charm.havencreative.org/event/music-in-the-apocalyptic-mode/
LOCATION:USC Mark Taper Hall 309\, 3501 Trousdale Parkway\, Los Angeles\, CA\, 90089\, United States
END:VEVENT
BEGIN:VEVENT
DTSTART;TZID=UTC:20230206T110000
DTEND;TZID=UTC:20230206T120000
DTSTAMP:20260423T132703
CREATED:20230324T002441Z
LAST-MODIFIED:20230324T002441Z
UID:585-1675681200-1675684800@charm.havencreative.org
SUMMARY:Grace Converse research presentation on Theosophy in S. California\, 1875-1945
DESCRIPTION:
URL:https://charm.havencreative.org/event/grace-converse-research-presentation-on-theosophy-in-s-california-1875-1945/
LOCATION:USC Mark Taper Hall 309\, 3501 Trousdale Parkway\, Los Angeles\, CA\, 90089\, United States
ORGANIZER;CN="Lisa Pon":MAILTO:lisapon@usc.edu
END:VEVENT
BEGIN:VEVENT
DTSTART;TZID=UTC:20230123T080000
DTEND;TZID=UTC:20230123T170000
DTSTAMP:20260423T132703
CREATED:20230320T121200Z
LAST-MODIFIED:20230320T121200Z
UID:464-1674460800-1674493200@charm.havencreative.org
SUMMARY:Visit to Forest Lawn Memorial Park and Art Museum
DESCRIPTION:Visit to Forest Lawn Museum to discuss links between art and religion\, place and memory\, commemoration and personal history.  Led by museum director Dr. James Fishburne and medievalist Alison Perchuk\, currently a Huntington Fellow working on an interdisciplinary study of the role of nineteenth- and twentieth-century concepts of the European Middle Ages in the development of Southern California
URL:https://charm.havencreative.org/event/visit-to-forest-lawn-memorial-park-and-art-museum/
LOCATION:CA
END:VEVENT
BEGIN:VEVENT
DTSTART;TZID=UTC:20230121T090000
DTEND;TZID=UTC:20230121T160000
DTSTAMP:20260423T132703
CREATED:20230324T001802Z
LAST-MODIFIED:20230324T001820Z
UID:581-1674291600-1674316800@charm.havencreative.org
SUMMARY:The Short Peace Beyond the Line: Europe and the World\, 1595-1620
DESCRIPTION:–conference co-sponsored by the Arts and Humanities Research Council (UK)\, University of Birmingham\, USC-Huntington Early Modern Studies Institute\, UCLA Center for 17th- & 18th-Century Studies\, and UCLA William Andrews Clark Memorial Library  \nFor questions about this conference\, please contact the\nUSC-Huntington Early Modern Studies Institute at\nemsi@dornsife.usc.edu. \nThis event is free of charge\, but you must book in advance to attend. All attendees will receive instructions via email after registration. Bookings close on Monday\, January 16\, 2023 at 5:00 p.m. 
URL:https://charm.havencreative.org/event/the-short-peace-beyond-the-line-europe-and-the-world-1595-1620-2/
LOCATION:Huntington Library\, Ahmanson Classroom\, 1151 Oxford Rd.\, San Marino\, CA\, 91108\, United States
END:VEVENT
BEGIN:VEVENT
DTSTART;TZID=UTC:20230120T130000
DTEND;TZID=UTC:20230120T140000
DTSTAMP:20260423T132703
CREATED:20230324T002038Z
LAST-MODIFIED:20230324T002038Z
UID:583-1674219600-1674223200@charm.havencreative.org
SUMMARY:Musicology Forum: Ireri Chávez-Bárcenas\, Bowdoin College
DESCRIPTION:“Music and Culture in Puebla de Los Ángeles” \nFriday\, January 20\, 2023\nUniversity of Southern California\nDoheny Memorial Library\nHerklotz Seminar Room\n1:00 pm \nThs event is co-sponsored with the USC Thornton School of Music.\nhttps://dornsife.usc.edu/emsi/music-series-2022-23/ \nContact Adam Gilbert (akgilber@usc.edu) for more info.
URL:https://charm.havencreative.org/event/musicology-forum-ireri-chavez-barcenas-bowdoin-college/
LOCATION:USC Doheny Memorial Library Herklotz Seminar Room\, 3550 Trousdale Pkwy\, Los Angeles\, CA\, 90089\, United States
ORGANIZER;CN="Adam Gilbert":MAILTO:akgilber@usc.edu
END:VEVENT
BEGIN:VEVENT
DTSTART;TZID=UTC:20230120T090000
DTEND;TZID=UTC:20230120T170000
DTSTAMP:20260423T132703
CREATED:20230324T001706Z
LAST-MODIFIED:20230324T001706Z
UID:578-1674205200-1674234000@charm.havencreative.org
SUMMARY:The Short Peace Beyond the Line: Europe and the World\, 1595-1620
DESCRIPTION:–conference co-sponsored by the Arts and Humanities Research Council (UK)\, University of Birmingham\, USC-Huntington Early Modern Studies Institute\, UCLA Center for 17th- & 18th-Century Studies\, and UCLA William Andrews Clark Memorial Library  \nFor questions about this conference\, please contact the\nUSC-Huntington Early Modern Studies Institute at\nemsi@dornsife.usc.edu. \nThis event is free of charge\, but you must book in advance to attend. All attendees will receive instructions via email after registration. Bookings close on Monday\, January 16\, 2023 at 5:00 p.m. 
URL:https://charm.havencreative.org/event/the-short-peace-beyond-the-line-europe-and-the-world-1595-1620/
LOCATION:Huntington Library\, Ahmanson Classroom\, 1151 Oxford Rd.\, San Marino\, CA\, 91108\, United States
END:VEVENT
BEGIN:VEVENT
DTSTART;TZID=UTC:20221205T140000
DTEND;TZID=UTC:20221205T160000
DTSTAMP:20260423T132703
CREATED:20230324T001403Z
LAST-MODIFIED:20230324T001429Z
UID:575-1670248800-1670256000@charm.havencreative.org
SUMMARY:CHARM ZOOMS AHEAD for 2023: in person and zoom
DESCRIPTION:CHARM ZOOMS AHEAD for 2023: in person and zoom
URL:https://charm.havencreative.org/event/charm-zooms-ahead-for-2023-in-person-and-zoom/
LOCATION:Amy King Dundon-Berchtold University Club of USC\, 705 W 34th St\, Los Angeles\, CA\, 90089\, United States
ORGANIZER;CN="Lisa Pon":MAILTO:lisapon@usc.edu
END:VEVENT
BEGIN:VEVENT
DTSTART;TZID=UTC:20221205T113000
DTEND;TZID=UTC:20221205T123000
DTSTAMP:20260423T132703
CREATED:20230324T001215Z
LAST-MODIFIED:20230324T001215Z
UID:573-1670239800-1670243400@charm.havencreative.org
SUMMARY:Grad Student Lunch
DESCRIPTION:Grad Student Lunch
URL:https://charm.havencreative.org/event/grad-student-lunch/
LOCATION:CA
END:VEVENT
BEGIN:VEVENT
DTSTART;TZID=UTC:20221130T120000
DTEND;TZID=UTC:20221130T130000
DTSTAMP:20260423T132703
CREATED:20230324T001054Z
LAST-MODIFIED:20230324T001054Z
UID:556-1669809600-1669813200@charm.havencreative.org
SUMMARY:Book Talk—Jessica Marglin\, The Shamama Case: Contesting Citizenship Across the Modern Mediterranean
DESCRIPTION:Book Talk—Jessica Marglin\, The Shamama Case: Contesting Citizenship Across the Modern Mediterranean \nA discussion of Jessica Marglin’s new book\, The Shamama Case: Contesting Citizenship Across the Modern Mediterranean (Princeton University Press\, 2022). Sponsored by the Center for Law\, History and Culture. Co-sponsored by the Casden Institute and Levan Institute for the Humanities \n  \nAbout the Book:  In the winter of 1873\, Nissim Shamama\, a wealthy Jew from Tunisia\, died suddenly in his palazzo in Livorno\, Italy. His passing initiated a fierce lawsuit over his large estate. Before Shamama’s riches could be disbursed among his aspiring heirs\, Italian courts had to decide which law to apply to his estate—a matter that depended on his nationality. Was he an Italian citizen? A subject of the Bey of Tunis? Had he become stateless? Or was his Jewishness also his nationality? Tracing a decade-long legal battle involving Jews\, Muslims\, and Christians from both sides of the Mediterranean\, The Shamama Case offers a riveting history of citizenship across regional\, cultural\, and political borders. \nOn its face\, the crux of the lawsuit seemed simple: To which state did Shamama belong when he died? But the case produced hundreds of pages in legal briefs and thousands of dollars in lawyers’ fees before the man’s estate could be distributed among his quarrelsome heirs. Jessica Marglin follows the unfolding of events\, from Shamama’s rise to power in Tunis and his self-imposed exile in France\, to his untimely death in Livorno and the clashing visions of nationality advanced during the lawsuit. Marglin brings to life a Dickensian array of individuals involved in the case: family members who hoped to inherit the estate; Tunisian government officials; an Algerian Jewish fixer; rabbis in Palestine\, Tunisia\, and Livorno; and some of Italy’s most famous legal minds. \nDrawing from a wealth of correspondence\, legal briefs\, rabbinic opinions\, and court rulings\, The Shamama Case reimagines how we think about Jews\, the Mediterranean\, and belonging in the nineteenth century. \nAbout the Author: is associate professor of religion\, history\, and law and the Ruth Ziegler Early Career Chair in Jewish Studies at the University of Southern California. She is the author of Across Legal Lines.
URL:https://charm.havencreative.org/event/book-talk-jessica-marglin-the-shamama-case-contesting-citizenship-across-the-modern-mediterranean/
LOCATION:USC Gould School of Law\, 705 W 34th St\, Los Angeles\, CA\, 90089\, United States
ORGANIZER;CN="tflee":MAILTO:tflee@usc.edu
END:VEVENT
END:VCALENDAR