BEGIN:VCALENDAR
VERSION:2.0
PRODID:-//CHARM - ECPv6.15.20//NONSGML v1.0//EN
CALSCALE:GREGORIAN
METHOD:PUBLISH
X-WR-CALNAME:CHARM
X-ORIGINAL-URL:https://charm.havencreative.org
X-WR-CALDESC:Events for CHARM
REFRESH-INTERVAL;VALUE=DURATION:PT1H
X-Robots-Tag:noindex
X-PUBLISHED-TTL:PT1H
BEGIN:VTIMEZONE
TZID:UTC
BEGIN:STANDARD
TZOFFSETFROM:+0000
TZOFFSETTO:+0000
TZNAME:UTC
DTSTART:20210101T000000
END:STANDARD
END:VTIMEZONE
BEGIN:VEVENT
DTSTART;TZID=UTC:20221029T093000
DTEND;TZID=UTC:20221029T103000
DTSTAMP:20260423T174310
CREATED:20230323T233220Z
LAST-MODIFIED:20230403T224914Z
UID:547-1667035800-1667039400@charm.havencreative.org
SUMMARY:CHARM PUBLIC EVENT: EMSI On Paper Seminar
DESCRIPTION:EMSI On Paper Seminar
URL:https://charm.havencreative.org/event/charm-public-event-emsi-on-paper-seminar/
LOCATION:USC Leavy Library Room 13\, 651 W 35th Street\, Los Angeles\, CA\, 90089\, United States
ATTACH;FMTTYPE=image/jpeg:https://charm.havencreative.org/wp-content/uploads/2023/04/emsilogo.jpeg
ORGANIZER;CN="tflee":MAILTO:tflee@usc.edu
END:VEVENT
BEGIN:VEVENT
DTSTART;TZID=UTC:20221028T090000
DTEND;TZID=UTC:20221028T170000
DTSTAMP:20260423T174310
CREATED:20230323T232945Z
LAST-MODIFIED:20230323T232945Z
UID:545-1666947600-1666976400@charm.havencreative.org
SUMMARY:CHARM PUBLIC EVENT: Sacred Underground CPW Panel
DESCRIPTION:Sacred Underground CPW Panel
URL:https://charm.havencreative.org/event/charm-public-event-sacred-underground-cpw-panel/
LOCATION:CA
ORGANIZER;CN="A Fulmer":MAILTO:afulmer@usc.edu
END:VEVENT
BEGIN:VEVENT
DTSTART;TZID=UTC:20221020T130000
DTEND;TZID=UTC:20221020T140000
DTSTAMP:20260423T174310
CREATED:20230323T232458Z
LAST-MODIFIED:20230323T232528Z
UID:539-1666270800-1666274400@charm.havencreative.org
SUMMARY:"Music and Culture in Puebla de Los Ángeles"
DESCRIPTION:Musicology Forum: Ireri Chávez-Bárcenas\, Bowdoin College “Music and Culture in Puebla de Los Ángeles” \nThis event is co-sponsored with the USC Thornton School of Music.
URL:https://charm.havencreative.org/event/music-and-culture-in-puebla-de-los-angeles/
LOCATION:USC Doheny Memorial Library Herklotz Seminar Room\, 3550 Trousdale Pkwy\, Los Angeles\, CA\, 90089\, United States
ORGANIZER;CN="Adam Gilbert":MAILTO:akgilber@usc.edu
END:VEVENT
BEGIN:VEVENT
DTSTART;TZID=UTC:20221007T200000
DTEND;TZID=UTC:20221007T220000
DTSTAMP:20260423T174310
CREATED:20230323T231935Z
LAST-MODIFIED:20230323T231958Z
UID:536-1665172800-1665180000@charm.havencreative.org
SUMMARY:Concerto delle donne: Music by and for Women in early Baroque Italy
DESCRIPTION:Concerto delle donne: Music by and for Women in early Baroque Italy\nPerformed by the Thornton Baroque Sinfonia\nDirected by Rotem Gilbert and Jason Yoshida\nCompositions by Barbara Strozzi\, Francesca Caccini\, Chiara Margarita Cozzolani and Isabella Leonarda
URL:https://charm.havencreative.org/event/concerto-delle-donne-music-by-and-for-women-in-early-baroque-italy/
LOCATION:USC Newman Recital Hall\, 700 Childs Way\, Los Angeles\, CA\, 90089\, United States
ORGANIZER;CN="A Fulmer":MAILTO:afulmer@usc.edu
END:VEVENT
BEGIN:VEVENT
DTSTART;TZID=UTC:20220930T130000
DTEND;TZID=UTC:20220930T180000
DTSTAMP:20260423T174310
CREATED:20230323T231654Z
LAST-MODIFIED:20230323T231654Z
UID:532-1664542800-1664560800@charm.havencreative.org
SUMMARY:Live Artists Live: Sings of Freedom
DESCRIPTION:Inspired by writer and civil rights activist Maya Angelou’s poetic verse\, “The caged bird sings of freedom\,” Live Artists Live: Sings of Freedom celebrates the liberating potentials of art and song. This fourth iteration of USC’s biannual Live Artists Live event spotlights fusions of performance art\, poetry\, and music that amplify oppressed voices and resist racism\, sexism\, xenophobia\, and homophobia. The full-day event brings together internationally acclaimed artists and scholars including Joy Harjo\, former US Poet Laureate\, renowned musician and writer of the Muscogee (Creek) Nation; Guillermo Gómez-Peña\, performance artist\, writer\, radical pedagogue\, and activist against all borders; Xina Xurner\, experimental music/art collaboration between Marvin Astorga and Young Joon Kwak\, whose performances expand ideas about queer and trans bodies; USC Professor Edgar Arceneaux\, an artist whose new project Boney\nManilli explores transnational and intersectional identities; USC Professor madison moore\, artist-scholar\, DJ\, and author of Fabulous: The Rise of the Beautiful Eccentric;\nand Yale University Professor Daphne Brooks\, distinguished scholar and author of several books including Liner Notes for the Revolution: The Intellectual Life of Black\nFeminist Sound. Vibrant performances\, immersive environments\, and engaging discussions illuminate marginalized people’s struggles and joys\, while striving for social justice through performative\, lyrical storytelling and musical art experiments.
URL:https://charm.havencreative.org/event/live-artists-live-sings-of-freedom/
LOCATION:USC Roski Graduate Programs\, 1262 Palmetto St.\, Los Angeles\, CA\, 90013\, United States
ORGANIZER;CN="A Fulmer":MAILTO:afulmer@usc.edu
END:VEVENT
BEGIN:VEVENT
DTSTART;TZID=UTC:20220928T133000
DTEND;TZID=UTC:20220928T150000
DTSTAMP:20260423T174310
CREATED:20230323T230940Z
LAST-MODIFIED:20230329T202401Z
UID:525-1664371800-1664377200@charm.havencreative.org
SUMMARY:CHARM reads together: Chapter Presentations by Maya Maskarinec\, Lisa Pon
DESCRIPTION:Chapter Presentations by Maya Maskarinec\, Lisa Pon
URL:https://charm.havencreative.org/event/charm-reads-together-chapter-presentations-by-maya-maskarinec-lisa-pon/
LOCATION:Hybrid: zoom and in-person
ORGANIZER;CN="Lauren Dodd":MAILTO:ldodds@usc.edu
END:VEVENT
BEGIN:VEVENT
DTSTART;TZID=UTC:20220915T160000
DTEND;TZID=UTC:20220915T180000
DTSTAMP:20260423T174310
CREATED:20230323T230317Z
LAST-MODIFIED:20230323T230317Z
UID:522-1663257600-1663264800@charm.havencreative.org
SUMMARY:CHARM attends the Center for the Premodern World Social Hour
DESCRIPTION:Center for the Premodern World Social Hour
URL:https://charm.havencreative.org/event/charm-attends-the-center-for-the-premodern-world-social-hour/
LOCATION:Amy King Dundon-Berchtold University Club of USC\, 705 W 34th St\, Los Angeles\, CA\, 90089\, United States
END:VEVENT
BEGIN:VEVENT
DTSTART;TZID=UTC:20220915T133000
DTEND;TZID=UTC:20220915T150000
DTSTAMP:20260423T174310
CREATED:20230320T024712Z
LAST-MODIFIED:20230320T024712Z
UID:435-1663248600-1663254000@charm.havencreative.org
SUMMARY:Cathedral of Our Lady of the Angels
DESCRIPTION:CHARM: Collaborations in History\, Art\, Religion\, and Music visits the Cathedral of Our Lady of the Angels in downtown Los Angeles.
URL:https://charm.havencreative.org/event/cathedral-of-our-lady-of-the-angels/
LOCATION:Cathedral of Our Lady of the Angels\, 555 West Temple Street Los Angeles\, CA 90012\, Los Angeles\, CA\, 90012\, United States
ORGANIZER;CN="Becky Cerling":MAILTO:rcerling@usc.edu
END:VEVENT
BEGIN:VEVENT
DTSTART;TZID=UTC:20220908T123000
DTEND;TZID=UTC:20220908T140000
DTSTAMP:20260423T174310
CREATED:20230323T225917Z
LAST-MODIFIED:20230323T225917Z
UID:520-1662640200-1662645600@charm.havencreative.org
SUMMARY:Lisa Bitel's class: Screening of The Ten Commandments
DESCRIPTION:This event will be held in the room B-27 under the SOS building on USC’s University Park Campus.
URL:https://charm.havencreative.org/event/lisa-bitels-class-screening-of-the-ten-commandments-2/
LOCATION:USC Social Sciences Building (SOS) B-27\, 3502 Trousdale Parkway\, Los Angeles\, 90089\, United States
END:VEVENT
BEGIN:VEVENT
DTSTART;TZID=UTC:20220906T123000
DTEND;TZID=UTC:20220906T140000
DTSTAMP:20260423T174310
CREATED:20230323T225657Z
LAST-MODIFIED:20230323T225657Z
UID:516-1662467400-1662472800@charm.havencreative.org
SUMMARY:Lisa Bitel's class: Screening of The Ten Commandments
DESCRIPTION:This event will be held in the room B-27 under the SOS building on USC’s University Park Campus.
URL:https://charm.havencreative.org/event/lisa-bitels-class-screening-of-the-ten-commandments/
LOCATION:USC Social Sciences Building (SOS) B-27\, 3502 Trousdale Parkway\, Los Angeles\, 90089\, United States
END:VEVENT
BEGIN:VEVENT
DTSTART;TZID=UTC:20220904T133000
DTEND;TZID=UTC:20220904T140000
DTSTAMP:20260423T174310
CREATED:20230323T231135Z
LAST-MODIFIED:20230323T231135Z
UID:529-1662298200-1662300000@charm.havencreative.org
SUMMARY:Group Junior Faculty First Week zoom
DESCRIPTION:Group Junior Faculty meeting
URL:https://charm.havencreative.org/event/group-junior-faculty-first-week-zoom/
LOCATION:zoom and Coffee Bean at USC Cinematic Arts building\, 900 West 34th Street\, Los Angeles\, CA\, 90089\, United States
END:VEVENT
BEGIN:VEVENT
DTSTART;TZID=UTC:20220826T173000
DTEND;TZID=UTC:20220826T190000
DTSTAMP:20260423T174310
CREATED:20230324T183852Z
LAST-MODIFIED:20230324T183852Z
UID:619-1661535000-1661540400@charm.havencreative.org
SUMMARY:Zoom Ahead Preview Exhibition Visit Dinner at LACMA
DESCRIPTION:Zoom Ahead Preview Exhibition Visit Dinner Ray’s and Stark bar at LACMA
URL:https://charm.havencreative.org/event/zoom-ahead-preview-exhibition-visit-dinner-at-lacma/
LOCATION:Los Angeles County Museum of Art – LACMA\, 5905 Wilshire Blvd\, Los Angeles\, CA\, 90036\, United States
ORGANIZER;CN="A Fulmer":MAILTO:afulmer@usc.edu
END:VEVENT
BEGIN:VEVENT
DTSTART;TZID=UTC:20220826T140000
DTEND;TZID=UTC:20220826T170000
DTSTAMP:20260423T174310
CREATED:20230324T183640Z
LAST-MODIFIED:20230324T183640Z
UID:616-1661522400-1661533200@charm.havencreative.org
SUMMARY:Zoom Ahead Preview at LACMA
DESCRIPTION:Zoom at LACMA Welcome Plaza\nMeeting Content:\n\nSelf-introductions: get to know you and your area of expertise\nShare ideas of projects/collaborations for Spring 2023\nLACMA Curatorial Staff intro to Archive of the World exhibition
URL:https://charm.havencreative.org/event/zoom-ahead-preview-at-lacma/
LOCATION:Los Angeles County Museum of Art – LACMA\, 5905 Wilshire Blvd\, Los Angeles\, CA\, 90036\, United States
ORGANIZER;CN="A Fulmer":MAILTO:afulmer@usc.edu
END:VEVENT
END:VCALENDAR